BEGIN:VCALENDAR
VERSION:2.0
PRODID:SchoolNow
CALSCALE:GREGORIAN
BEGIN:VEVENT
UID:944354ce-a647-11e8-be71-0a1ddf29f7b8
DTSTAMP:20180824T152929Z
SUMMARY:Cross Country at Sparta Invitational
URL;VALUE=URI:https://www.hudsonvillepublicschools.org/rileystreet/athletic
 s/calendar/1839665/cross-country-at-sparta-invitational
DTSTART:20180915T170000Z
DTEND:20180915T190000Z
END:VEVENT
END:VCALENDAR
