BEGIN:VCALENDAR
VERSION:2.0
PRODID:SchoolNow
CALSCALE:GREGORIAN
BEGIN:VEVENT
UID:63288682-a630-11e8-b898-1264bf68a6d6
DTSTAMP:20180830T144811Z
SUMMARY:Cross Country vs. BC\, Grandville\, Hamilton
URL;VALUE=URI:https://www.hudsonvillepublicschools.org/rileystreet/athletic
 s/calendar/1838424/cross-country-vs-bc-grandville-hamilton
DTSTART:20180911T200000Z
DTEND:20180911T220000Z
END:VEVENT
END:VCALENDAR
