BEGIN:VCALENDAR
VERSION:2.0
PRODID:SchoolNow
CALSCALE:GREGORIAN
BEGIN:VEVENT
UID:0809eec6-a630-11e8-b120-1264bf68a6d6
DTSTAMP:20180823T185602Z
SUMMARY:Cross Country at Mona Shores
URL;VALUE=URI:https://www.hudsonvillepublicschools.org/rileystreet/athletic
 s/calendar/1838423/cross-country-at-mona-shores
DTSTART:20180906T200000Z
DTEND:20180906T220000Z
END:VEVENT
END:VCALENDAR
