BEGIN:VCALENDAR
VERSION:2.0
PRODID:SchoolNow
CALSCALE:GREGORIAN
BEGIN:VEVENT
UID:80fe19ee-a62e-11e8-a9f9-0a2594653b50
DTSTAMP:20180822T210512Z
SUMMARY:Girls Tennis at Zeeland Creekside
URL;VALUE=URI:https://www.hudsonvillepublicschools.org/rileystreet/athletic
 s/calendar/1838422/girls-tennis-at-zeeland-creekside
DTSTART:20181011T200000Z
DTEND:20181011T213000Z
END:VEVENT
END:VCALENDAR
