BEGIN:VCALENDAR
VERSION:2.0
PRODID:SchoolNow
CALSCALE:GREGORIAN
BEGIN:VEVENT
UID:593326a2-a62e-11e8-850f-127e557067ce
DTSTAMP:20180822T210438Z
SUMMARY:Girls Tennis at East Rockford
URL;VALUE=URI:https://www.hudsonvillepublicschools.org/rileystreet/athletic
 s/calendar/1838421/girls-tennis-at-east-rockford
DTSTART:20181009T200000Z
DTEND:20181009T213000Z
END:VEVENT
END:VCALENDAR
