BEGIN:VCALENDAR
VERSION:2.0
PRODID:SchoolNow
CALSCALE:GREGORIAN
BEGIN:VEVENT
UID:2ce8e64a-a62e-11e8-85ae-1264bf68a6d6
DTSTAMP:20180822T210400Z
SUMMARY:Girls Tennis vs. North Rockford
URL;VALUE=URI:https://www.hudsonvillepublicschools.org/rileystreet/athletic
 s/calendar/1838420/girls-tennis-vs-north-rockford
DTSTART:20181002T200000Z
DTEND:20181002T213000Z
END:VEVENT
END:VCALENDAR
