BEGIN:VCALENDAR
VERSION:2.0
PRODID:SchoolNow
CALSCALE:GREGORIAN
BEGIN:VEVENT
UID:64704ce4-a62d-11e8-ac10-12bae7d0af6e
DTSTAMP:20180822T210309Z
SUMMARY:Girls Tennis at Grandville Maroon
URL;VALUE=URI:https://www.hudsonvillepublicschools.org/rileystreet/athletic
 s/calendar/1838419/girls-tennis-at-grandville-maroon
DTSTART:20180927T200000Z
DTEND:20180927T213000Z
END:VEVENT
END:VCALENDAR
