BEGIN:VCALENDAR
VERSION:2.0
PRODID:SchoolNow
CALSCALE:GREGORIAN
BEGIN:VEVENT
UID:e4d79c6c-a62c-11e8-b5de-0af07cda568a
DTSTAMP:20180822T210242Z
SUMMARY:Girls Tennis at Holland
URL;VALUE=URI:https://www.hudsonvillepublicschools.org/rileystreet/athletic
 s/calendar/1838418/girls-tennis-at-holland
DTSTART:20180925T200000Z
DTEND:20180925T213000Z
END:VEVENT
END:VCALENDAR
