BEGIN:VCALENDAR
VERSION:2.0
PRODID:SchoolNow
CALSCALE:GREGORIAN
BEGIN:VEVENT
UID:a2183350-a62c-11e8-a46e-0af07cda568a
DTSTAMP:20180822T210201Z
SUMMARY:Girls Tennis vs. Grandville Maroon
URL;VALUE=URI:https://www.hudsonvillepublicschools.org/rileystreet/athletic
 s/calendar/1838417/girls-tennis-vs-grandville-maroon
DTSTART:20180924T200000Z
DTEND:20180924T213000Z
END:VEVENT
END:VCALENDAR
