BEGIN:VCALENDAR
VERSION:2.0
PRODID:SchoolNow
CALSCALE:GREGORIAN
BEGIN:VEVENT
UID:37bb11da-a62c-11e8-8b89-0a860e8651c6
DTSTAMP:20180822T205918Z
SUMMARY:Girls Tennis vs. Baldwin
URL;VALUE=URI:https://www.hudsonvillepublicschools.org/rileystreet/athletic
 s/calendar/1838416/girls-tennis-vs-baldwin
DTSTART:20180920T200000Z
DTEND:20180920T213000Z
END:VEVENT
END:VCALENDAR
