BEGIN:VCALENDAR
VERSION:2.0
PRODID:SchoolNow
CALSCALE:GREGORIAN
BEGIN:VEVENT
UID:0b817712-a62c-11e8-a1a1-0a5dd5540ccc
DTSTAMP:20180822T205817Z
SUMMARY:Girls Tennis at Grandville White
URL;VALUE=URI:https://www.hudsonvillepublicschools.org/rileystreet/athletic
 s/calendar/1838415/girls-tennis-at-grandville
DTSTART:20180918T200000Z
DTEND:20180918T213000Z
END:VEVENT
END:VCALENDAR
