BEGIN:VCALENDAR
VERSION:2.0
PRODID:SchoolNow
CALSCALE:GREGORIAN
BEGIN:VEVENT
UID:72cc20da-a62b-11e8-bc1f-0af07cda568a
DTSTAMP:20180822T205750Z
SUMMARY:Girls Tennis vs. Jenison
URL;VALUE=URI:https://www.hudsonvillepublicschools.org/rileystreet/athletic
 s/calendar/1838414/girls-tennis-vs-jenison
DTSTART:20180913T200000Z
DTEND:20180913T213000Z
END:VEVENT
END:VCALENDAR
