BEGIN:VCALENDAR
VERSION:2.0
PRODID:SchoolNow
CALSCALE:GREGORIAN
BEGIN:VEVENT
UID:36322a34-a62b-11e8-b761-0af07cda568a
DTSTAMP:20180822T205657Z
SUMMARY:Girls Tennis vs. East Rockford
URL;VALUE=URI:https://www.hudsonvillepublicschools.org/rileystreet/athletic
 s/calendar/1838413/girls-tennis-vs-east-rockford
DTSTART:20180911T200000Z
DTEND:20180911T213000Z
END:VEVENT
END:VCALENDAR
