BEGIN:VCALENDAR
VERSION:2.0
PRODID:SchoolNow
CALSCALE:GREGORIAN
BEGIN:VEVENT
UID:886f314e-a62a-11e8-b357-122374454538
DTSTAMP:20180823T182816Z
SUMMARY:Girls Tennis at Hamilton
URL;VALUE=URI:https://www.hudsonvillepublicschools.org/rileystreet/athletic
 s/calendar/1838411/girls-tennis-at-hamilton
DTSTART:20180910T200000Z
DTEND:20180910T213000Z
END:VEVENT
END:VCALENDAR
