BEGIN:VCALENDAR
VERSION:2.0
PRODID:SchoolNow
CALSCALE:GREGORIAN
BEGIN:VEVENT
UID:a91b6ac6-a629-11e8-916d-121bb119e4ae
DTSTAMP:20180822T205424Z
SUMMARY:Girls Tennis vs. Grand Haven
URL;VALUE=URI:https://www.hudsonvillepublicschools.org/rileystreet/athletic
 s/calendar/1838406/girls-tennis-vs-grand-haven
DTSTART:20180904T200000Z
DTEND:20180904T213000Z
END:VEVENT
END:VCALENDAR
