BEGIN:VCALENDAR
VERSION:2.0
PRODID:SchoolNow
CALSCALE:GREGORIAN
BEGIN:VEVENT
UID:282c6450-a625-11e8-8a32-0a5dd5540ccc
DTSTAMP:20180822T211223Z
SUMMARY:Volleyball at Zeeland Creekside
URL;VALUE=URI:https://www.hudsonvillepublicschools.org/rileystreet/athletic
 s/calendar/1838391/volleyball-at-zeeland-creekside
DTSTART:20181011T200000Z
DTEND:20181011T223000Z
END:VEVENT
END:VCALENDAR
