BEGIN:VCALENDAR
VERSION:2.0
PRODID:SchoolNow
CALSCALE:GREGORIAN
BEGIN:VEVENT
UID:fbdef89a-a624-11e8-b1e1-0a502585c550
DTSTAMP:20180822T211142Z
SUMMARY:Volleyball at Reeths Puffer
URL;VALUE=URI:https://www.hudsonvillepublicschools.org/rileystreet/athletic
 s/calendar/1838388/volleyball-at-reeths-puffer
DTSTART:20181009T080000Z
DTEND:20181009T103000Z
END:VEVENT
END:VCALENDAR
