BEGIN:VCALENDAR
VERSION:2.0
PRODID:SchoolNow
CALSCALE:GREGORIAN
BEGIN:VEVENT
UID:b2b0f682-a624-11e8-bc99-0a2594653b50
DTSTAMP:20180822T210959Z
SUMMARY:Volleyball at West Ottawa Tournament
URL;VALUE=URI:https://www.hudsonvillepublicschools.org/rileystreet/athletic
 s/calendar/1838385/volleyball-at-west-ottawa-tournament
DTSTART:20181006T130000Z
DTEND:20181006T170000Z
END:VEVENT
END:VCALENDAR
