BEGIN:VCALENDAR
VERSION:2.0
PRODID:SchoolNow
CALSCALE:GREGORIAN
BEGIN:VEVENT
UID:70fcf646-a624-11e8-9f4d-12bae7d0af6e
DTSTAMP:20180822T210916Z
SUMMARY:Volleyball vs. Fruitport
URL;VALUE=URI:https://www.hudsonvillepublicschools.org/rileystreet/athletic
 s/calendar/1838383/volleyball-vs-fruitport
DTSTART:20181004T200000Z
DTEND:20181004T223000Z
END:VEVENT
END:VCALENDAR
