BEGIN:VCALENDAR
VERSION:2.0
PRODID:SchoolNow
CALSCALE:GREGORIAN
BEGIN:VEVENT
UID:245cb380-a624-11e8-b738-121bb119e4ae
DTSTAMP:20180928T154716Z
SUMMARY:Volleyball vs. Baldwin
URL;VALUE=URI:https://www.hudsonvillepublicschools.org/rileystreet/athletic
 s/calendar/1838382/volleyball-vs-baldwin
DTSTART:20181001T200000Z
DTEND:20181001T223000Z
END:VEVENT
END:VCALENDAR
