BEGIN:VCALENDAR
VERSION:2.0
PRODID:SchoolNow
CALSCALE:GREGORIAN
BEGIN:VEVENT
UID:6711886e-a623-11e8-b44f-0a860e8651c6
DTSTAMP:20180822T210756Z
SUMMARY:Volleyball at Byron Center
URL;VALUE=URI:https://www.hudsonvillepublicschools.org/rileystreet/athletic
 s/calendar/1838374/volleyball-at-byron-center
DTSTART:20180925T200000Z
DTEND:20180925T223000Z
END:VEVENT
END:VCALENDAR
