BEGIN:VCALENDAR
VERSION:2.0
PRODID:SchoolNow
CALSCALE:GREGORIAN
BEGIN:VEVENT
UID:621b09b8-a621-11e8-be9f-121bb119e4ae
DTSTAMP:20180827T201414Z
SUMMARY:Volleyball at West Ottawa Mac Bay
URL;VALUE=URI:https://www.hudsonvillepublicschools.org/rileystreet/athletic
 s/calendar/1838284/volleyball-at-west-ottawa
DTSTART:20180920T200000Z
DTEND:20180920T223000Z
END:VEVENT
END:VCALENDAR
