BEGIN:VCALENDAR
VERSION:2.0
PRODID:SchoolNow
CALSCALE:GREGORIAN
BEGIN:VEVENT
UID:905959a8-a61f-11e8-9aad-12bae7d0af6e
DTSTAMP:20180822T210642Z
SUMMARY:Volleyball at Hamilton
URL;VALUE=URI:https://www.hudsonvillepublicschools.org/rileystreet/athletic
 s/calendar/1838278/volleyball-at-hamilton
DTSTART:20180913T200000Z
DTEND:20180913T223000Z
END:VEVENT
END:VCALENDAR
