BEGIN:VCALENDAR
VERSION:2.0
PRODID:SchoolNow
CALSCALE:GREGORIAN
BEGIN:VEVENT
UID:650d467e-a61f-11e8-8fda-0a502585c550
DTSTAMP:20180822T210606Z
SUMMARY:Volleyball vs. Holland Christian
URL;VALUE=URI:https://www.hudsonvillepublicschools.org/rileystreet/athletic
 s/calendar/1838277/volleyball-vs-holland-christian
DTSTART:20180911T200000Z
DTEND:20180911T223000Z
END:VEVENT
END:VCALENDAR
