BEGIN:VCALENDAR
VERSION:2.0
PRODID:SchoolNow
CALSCALE:GREGORIAN
BEGIN:VEVENT
UID:1787d4a0-a61f-11e8-b95d-1264bf68a6d6
DTSTAMP:20180822T210542Z
SUMMARY:Volleyball vs. Jenison
URL;VALUE=URI:https://www.hudsonvillepublicschools.org/rileystreet/athletic
 s/calendar/1838276/volleyball-vs-jenison
DTSTART:20180906T200000Z
DTEND:20180906T223000Z
END:VEVENT
END:VCALENDAR
