BEGIN:VCALENDAR
VERSION:2.0
PRODID:SchoolNow
CALSCALE:GREGORIAN
BEGIN:VEVENT
UID:e973edde-51d0-11e7-99ef-124f7febbf4a
DTSTAMP:20170615T134536Z
SUMMARY:Early Release Day
URL;VALUE=URI:https://www.hudsonvillepublicschools.org/park/calendar/117442
 7/early-release-day
DTSTART;VALUE=DATE:20180511
DTEND;VALUE=DATE:20180512
END:VEVENT
END:VCALENDAR
