BEGIN:VCALENDAR
VERSION:2.0
PRODID:SchoolNow
CALSCALE:GREGORIAN
BEGIN:VEVENT
UID:159f970e-544c-11ef-bd3a-0afff8793875
DTSTAMP:20240912T164800Z
SUMMARY:Teacher Team Time - BMS\, RMS\, HS
URL;VALUE=URI:https://www.hudsonvillepublicschools.org/hudsonvillehigh/cale
 ndar/6365028/plc-team-time
DTSTART:20250528T182000Z
DTEND:20250528T184500Z
END:VEVENT
END:VCALENDAR
