BEGIN:VCALENDAR
VERSION:2.0
PRODID:SchoolNow
CALSCALE:GREGORIAN
BEGIN:VEVENT
UID:f622c7de-544b-11ef-a901-0eaf28a02189
DTSTAMP:20240912T164749Z
SUMMARY:Teacher Team Time - BMS\, RMS\, HS
URL;VALUE=URI:https://www.hudsonvillepublicschools.org/hudsonvillehigh/cale
 ndar/6365024/plc-team-time
DTSTART:20250514T182000Z
DTEND:20250514T184500Z
END:VEVENT
END:VCALENDAR
