BEGIN:VCALENDAR
VERSION:2.0
PRODID:SchoolNow
CALSCALE:GREGORIAN
BEGIN:VEVENT
UID:3bda509e-9ea3-11ee-bbc1-0a58a9feac02
DTSTAMP:20231219T191721Z
SUMMARY:Early Release
URL;VALUE=URI:https://www.hudsonvillepublicschools.org/hudsonvillehigh/cale
 ndar/5026797/early-release
DTSTART:20250509T165200Z
DTEND:20250509T175200Z
END:VEVENT
END:VCALENDAR
