BEGIN:VCALENDAR
VERSION:2.0
PRODID:SchoolNow
CALSCALE:GREGORIAN
BEGIN:VEVENT
UID:268b10f2-9ea3-11ee-94fd-0a58a9feac02
DTSTAMP:20231219T191645Z
SUMMARY:No School / Snow Day Makeup if Needed
URL;VALUE=URI:https://www.hudsonvillepublicschools.org/hudsonvillehigh/cale
 ndar/5026785/no-school-snow-day-makeup-if-needed
DTSTART:20250523T165200Z
DTEND:20250523T175200Z
END:VEVENT
END:VCALENDAR
