BEGIN:VCALENDAR
VERSION:2.0
PRODID:SchoolNow
CALSCALE:GREGORIAN
BEGIN:VEVENT
UID:c1f366ae-0ce9-11ed-bbf6-0235741db68f
DTSTAMP:20220726T134923Z
SUMMARY:Early Release Day
URL;VALUE=URI:https://www.hudsonvillepublicschools.org/hudsonvillehigh/cale
 ndar/3254353/first-day-of-school-early-release-clone-clone-clone-clone-clo
 ne-clone-clone-clone
DTSTART;VALUE=DATE:20230505
DTEND;VALUE=DATE:20230506
END:VEVENT
END:VCALENDAR
