BEGIN:VCALENDAR
VERSION:2.0
PRODID:SchoolNow
CALSCALE:GREGORIAN
BEGIN:VEVENT
UID:8d53cfd0-3835-11f1-945e-0a58a9feac02
DTSTAMP:20260419T193507Z
SUMMARY:Kinder Olympics
URL;VALUE=URI:https://www.hudsonvillepublicschools.org/georgetown/calendar/
 8993967/kinder-olympics
DTSTART:20260528T130000Z
DTEND:20260528T153000Z
END:VEVENT
END:VCALENDAR
