BEGIN:VCALENDAR
VERSION:2.0
PRODID:SchoolNow
CALSCALE:GREGORIAN
BEGIN:VEVENT
UID:5b196a36-2221-11f1-8807-0a58a9feac02
DTSTAMP:20260419T193507Z
SUMMARY:New Student Tour (Haley Gilliland)
URL;VALUE=URI:https://www.hudsonvillepublicschools.org/georgetown/calendar/
 8925608/new-student-tour-haley-gilliland
DTSTART:20260318T164500Z
DTEND:20260318T174500Z
END:VEVENT
END:VCALENDAR
