BEGIN:VCALENDAR
VERSION:2.0
PRODID:SchoolNow
CALSCALE:GREGORIAN
BEGIN:VEVENT
UID:7dae9cda-2157-11f1-afa3-0e4b90e6b217
DTSTAMP:20260419T193507Z
SUMMARY:Hope Students (cafeteria)
URL;VALUE=URI:https://www.hudsonvillepublicschools.org/georgetown/calendar/
 8922830/hope-students-cafeteria
DTSTART:20260320T130000Z
DTEND:20260320T133000Z
END:VEVENT
END:VCALENDAR
