BEGIN:VCALENDAR
VERSION:2.0
PRODID:SchoolNow
CALSCALE:GREGORIAN
BEGIN:VEVENT
UID:7dae98ca-2157-11f1-9084-0e4b90e6b217
DTSTAMP:20260419T193507Z
SUMMARY:Hope Students (cafeteria)
URL;VALUE=URI:https://www.hudsonvillepublicschools.org/georgetown/calendar/
 8922829/hope-students-cafeteria
DTSTART:20260325T130000Z
DTEND:20260325T133000Z
END:VEVENT
END:VCALENDAR
