BEGIN:VCALENDAR
VERSION:2.0
PRODID:SchoolNow
CALSCALE:GREGORIAN
BEGIN:VEVENT
UID:b0147f8c-18ab-11f1-a215-0a58a9feac02
DTSTAMP:20260419T193507Z
SUMMARY:Kona Ice Truck
URL;VALUE=URI:https://www.hudsonvillepublicschools.org/georgetown/calendar/
 8893245/kona-ice-truck
DTSTART;VALUE=DATE:20260515
DTEND;VALUE=DATE:20260516
END:VEVENT
END:VCALENDAR
