BEGIN:VCALENDAR
VERSION:2.0
PRODID:SchoolNow
CALSCALE:GREGORIAN
BEGIN:VEVENT
UID:d1e08a04-17e1-11f1-956e-0a58a9feac02
DTSTAMP:20260419T193507Z
SUMMARY:PK/K Screening
URL;VALUE=URI:https://www.hudsonvillepublicschools.org/georgetown/calendar/
 8890288/pk-k-screening
DTSTART;VALUE=DATE:20260319
DTEND;VALUE=DATE:20260320
END:VEVENT
END:VCALENDAR
