BEGIN:VCALENDAR
VERSION:2.0
PRODID:SchoolNow
CALSCALE:GREGORIAN
BEGIN:VEVENT
UID:f4c5cdba-1717-11f1-8aa1-0a58a9feac02
DTSTAMP:20260419T193507Z
SUMMARY:2nd\, 3rd\, and 4th Brain Break Assembly
URL;VALUE=URI:https://www.hudsonvillepublicschools.org/georgetown/calendar/
 8887095/2nd-3rd-and-4th-brain-break-assembly
DTSTART:20260325T183000Z
DTEND:20260325T191500Z
END:VEVENT
END:VCALENDAR
