BEGIN:VCALENDAR
VERSION:2.0
PRODID:SchoolNow
CALSCALE:GREGORIAN
BEGIN:VEVENT
UID:e7f21bbe-1192-11f1-bd13-0a58a9feac02
DTSTAMP:20260419T193507Z
SUMMARY:PK\,K\, 1st Brain Break Academy Assembly
URL;VALUE=URI:https://www.hudsonvillepublicschools.org/georgetown/calendar/
 8869196/pk-k-1st-brain-break-academy-assembly
DTSTART:20260325T173000Z
DTEND:20260325T181500Z
END:VEVENT
END:VCALENDAR
