BEGIN:VCALENDAR
VERSION:2.0
PRODID:SchoolNow
CALSCALE:GREGORIAN
BEGIN:VEVENT
UID:5044ae44-0f35-11f1-869e-0a58a9feac02
DTSTAMP:20260419T193507Z
SUMMARY:Hearing Vision ReScreening
URL;VALUE=URI:https://www.hudsonvillepublicschools.org/georgetown/calendar/
 8863988/hearing-vision-rescreening
DTSTART;VALUE=DATE:20260512
DTEND;VALUE=DATE:20260513
END:VEVENT
END:VCALENDAR
