BEGIN:VCALENDAR
VERSION:2.0
PRODID:SchoolNow
CALSCALE:GREGORIAN
BEGIN:VEVENT
UID:733d0934-0e6b-11f1-a442-0a58a9feac02
DTSTAMP:20260419T193507Z
SUMMARY:1st and 3rd Vision Screening
URL;VALUE=URI:https://www.hudsonvillepublicschools.org/georgetown/calendar/
 8862267/1st-and-3rd-vision-screening
DTSTART;VALUE=DATE:20260423
DTEND;VALUE=DATE:20260424
END:VEVENT
END:VCALENDAR
