BEGIN:VCALENDAR
VERSION:2.0
PRODID:SchoolNow
CALSCALE:GREGORIAN
BEGIN:VEVENT
UID:733c81e4-0e6b-11f1-85db-0a58a9feac02
DTSTAMP:20260419T193507Z
SUMMARY:Kindergarten\, 2nd\, and 4th Hearing Screening
URL;VALUE=URI:https://www.hudsonvillepublicschools.org/georgetown/calendar/
 8862266/kindergarten-2nd-and-4th-hearing-screening
DTSTART;VALUE=DATE:20260422
DTEND;VALUE=DATE:20260423
END:VEVENT
END:VCALENDAR
