BEGIN:VCALENDAR
VERSION:2.0
PRODID:SchoolNow
CALSCALE:GREGORIAN
BEGIN:VEVENT
UID:4368832c-ab11-11f0-acd9-0ef7be514545
DTSTAMP:20260419T193507Z
SUMMARY:PK/K Informational Night
URL;VALUE=URI:https://www.hudsonvillepublicschools.org/georgetown/calendar/
 8728605/pk-k-informational-night
DTSTART:20260127T230000Z
DTEND:20260128T000000Z
END:VEVENT
END:VCALENDAR
