BEGIN:VCALENDAR
VERSION:2.0
PRODID:SchoolNow
CALSCALE:GREGORIAN
BEGIN:VEVENT
UID:ab84c91c-a8b3-11f0-a597-0a58a9feac02
DTSTAMP:20260419T193507Z
SUMMARY:PTC Meeting
URL;VALUE=URI:https://www.hudsonvillepublicschools.org/georgetown/calendar/
 8720949/ptc-meeting
DTSTART:20260108T210000Z
DTEND:20260108T220000Z
END:VEVENT
END:VCALENDAR
