BEGIN:VCALENDAR
VERSION:2.0
PRODID:SchoolNow
CALSCALE:GREGORIAN
BEGIN:VEVENT
UID:25ff7f2c-1faf-11f0-a40a-0224763a4f15
DTSTAMP:20250422T192236Z
SUMMARY:Last Day of School - Early Release
URL;VALUE=URI:https://www.hudsonvillepublicschools.org/georgetown/calendar/
 7985938/last-day-of-school-early-release
DTSTART:20260605T181100Z
DTEND:20260605T191100Z
END:VEVENT
END:VCALENDAR
