BEGIN:VCALENDAR
VERSION:2.0
PRODID:SchoolNow
CALSCALE:GREGORIAN
BEGIN:VEVENT
UID:063820be-1fae-11f0-abc0-0a58a9feac02
DTSTAMP:20250422T201505Z
SUMMARY:Spring Break
URL;VALUE=URI:https://www.hudsonvillepublicschools.org/georgetown/calendar/
 7985881/spring-break
DTSTART;VALUE=DATE:20260402
DTEND;VALUE=DATE:20260411
END:VEVENT
END:VCALENDAR
