BEGIN:VCALENDAR
VERSION:2.0
PRODID:SchoolNow
CALSCALE:GREGORIAN
BEGIN:VEVENT
UID:ad324a40-1fac-11f0-a6ba-0a58a9feac02
DTSTAMP:20250422T190454Z
SUMMARY:Early Release
URL;VALUE=URI:https://www.hudsonvillepublicschools.org/georgetown/calendar/
 7985785/early-release
DTSTART:20251114T190300Z
DTEND:20251114T200300Z
END:VEVENT
END:VCALENDAR
