BEGIN:VCALENDAR
VERSION:2.0
PRODID:SchoolNow
CALSCALE:GREGORIAN
BEGIN:VEVENT
UID:e1275158-9bd4-11ef-b632-0affff03808d
DTSTAMP:20260419T193507Z
SUMMARY:PBIS Specialist Day
URL;VALUE=URI:https://www.hudsonvillepublicschools.org/georgetown/calendar/
 6967224/pbis-specialist-day
DTSTART;VALUE=DATE:20260320
DTEND;VALUE=DATE:20260321
END:VEVENT
END:VCALENDAR
