BEGIN:VCALENDAR
VERSION:2.0
PRODID:SchoolNow
CALSCALE:GREGORIAN
BEGIN:VEVENT
UID:ba9fd3c6-6c85-11ef-ba4e-0a58a9feac02
DTSTAMP:20260419T193507Z
SUMMARY:County Tornado Siren Practice
URL;VALUE=URI:https://www.hudsonvillepublicschools.org/georgetown/calendar/
 6539820/county-tornado-siren-practice
DTSTART:20260501T160000Z
DTEND:20260501T160000Z
END:VEVENT
END:VCALENDAR
