BEGIN:VCALENDAR
VERSION:2.0
PRODID:SchoolNow
CALSCALE:GREGORIAN
BEGIN:VEVENT
UID:c01a151c-1fab-11f0-8a24-0e616df63291
DTSTAMP:20250422T185817Z
SUMMARY:No School
URL;VALUE=URI:https://www.hudsonvillepublicschools.org/forestgrove/calendar
 /7985714/no-school
DTSTART;VALUE=DATE:20250829
DTEND;VALUE=DATE:20250830
END:VEVENT
END:VCALENDAR
